BEGIN:VCALENDAR
VERSION:2.0
PRODID:-//wp-events-plugin.com//7.0.0.1//EN
TZID:Europe/Berlin
X-WR-TIMEZONE:Europe/Berlin
BEGIN:VEVENT
UID:1@affiliate-sein.de
DTSTART;TZID=Europe/Berlin:20240131T000000
DTEND;TZID=Europe/Berlin:20240131T000000
DTSTAMP:20240120T152918Z
URL:https://affiliate-sein.de/events/10k-mentoring-von-ralf-schmitz-webina
 r/
SUMMARY:10K Mentoring von <a title="" class="aalmanual" href="https://affil
 iate-sein.de/ralf-schmitz/">Ralf Schmitz</a> Webinar
DESCRIPTION:Das Webinar\, veranstaltet von <a title="" class="aalmanual" hr
 ef="https://affiliate-sein.de/ralf-schmitz/">Ralf Schmitz</a>\, dem berüh
 mten Affiliate-Marketing-Experten\, verspricht eine einzigartige und bewä
 hrte Strategie zur Enthüllung. Dieses Event konzentriert sich darauf\, wi
 e man sich im Homeoffice ein passives Einkommen aufbaut und täglich unfas
 sbar lukrative Provisionen verdient. Mit dem Titel "Entdecke die Geheimnis
 se des erfolgreichen Affiliate-Marketings mit Affiliate-König <a title=""
  class="aalmanual" href="https://affiliate-sein.de/ralf-schmitz/">Ralf Sch
 mitz</a>" verspricht dieses Online-Training den Teilnehmern die genauen 6 
 Schritte\, die bereits von Tausenden von Menschen erfolgreich genutzt werd
 en.\n\nIn diesem Webinar erwarten die Teilnehmer Folgendes:\n\n 	Die kompl
 ette Anleitung\, um konstant 10.000 Euro pro Monat zu verdienen: Dieses Ev
 ent wird praxisnahe Strategien und Schritte vermitteln\, um ein solides mo
 natliches Einkommen zu generieren\, ohne sich zu verzetteln oder überford
 ert zu fühlen.\n 	Erhalte die bewährte und seit Jahren funktionierende S
 trategie: <a title="" class="aalmanual" href="https://affiliate-sein.de/ra
 lf-schmitz/">Ralf Schmitz</a> verspricht\, seinen Teilnehmern eine bewähr
 te Strategie mitzugeben\, um erfolgreich Geld zu verdienen\, ohne ständig
  den neuesten Trends hinterherjagen zu müssen.\n\nMelde dich kostenfrei a
 n:\n\n[button color="btn-warning" size="btn-lg" shape="btn-rounded" outlin
 e="true" block="false" target="_blank" rel="" href="https://www.digistore2
 4.com/content/501903/44728/cwebb87/as"]Anmeldung &amp\; Infos zum Webinar 
 mit Ralf Schmitz *[/button]\n\nRalf Schmitz\, der als "Der Affiliate Köni
 g" bekannt ist\, wird höchstpersönlich das Webinar leiten und verspricht
 \, die Teilnehmer persönlich zu coachen\, bis sie ein monatliches Nettoei
 nkommen von 10.000 Euro mit Affiliate-Marketing verdienen.\n\nDie Veransta
 ltung wird von Ralf Schmitz als Referent und Veranstalter geleitet\, und M
 icha Barth wird den Webinar-Support bereitstellen.\n\nFür alle\, die nach
  einer bewährten Methode suchen\, um im Affiliate-Marketing erfolgreich z
 u sein und ein passives Einkommen aufzubauen\, ist dieses Webinar eine aus
 gezeichnete Gelegenheit. Interessierte können sich jetzt registrieren und
  die Geheimnisse des Affiliate-Marketings von Ralf Schmitz persönlich erf
 ahren
ATTACH;FMTTYPE=image/jpeg:https://affiliate-sein.de/wp-content/uploads/202
 3/10/10k-Mentoring-Ralf-Schmitz.jpg
LOCATION:https://www.digistore24.com/content/501903/44728/cwebb87/as
END:VEVENT
BEGIN:VTIMEZONE
TZID:Europe/Berlin
X-LIC-LOCATION:Europe/Berlin
BEGIN:STANDARD
DTSTART:20231029T020000
TZOFFSETFROM:+0200
TZOFFSETTO:+0100
TZNAME:CET
END:STANDARD
END:VTIMEZONE
END:VCALENDAR