BEGIN:VCALENDAR
VERSION:2.0
PRODID:-//wp-events-plugin.com//7.0.0.1//EN
TZID:Europe/Berlin
X-WR-TIMEZONE:Europe/Berlin
BEGIN:VEVENT
UID:17@affiliate-sein.de
DTSTART;TZID=Europe/Berlin:20240513T180000
DTEND;TZID=Europe/Berlin:20240513T180000
DTSTAMP:20240512T162817Z
URL:https://affiliate-sein.de/events/attacke-mega-bundle-von-dirk-kreuter-
 partnerprogramm/
SUMMARY:Attacke Mega Bundle von Dirk Kreuter + Partnerprogramm
DESCRIPTION:Die ultimative Verkaufsrevolution: Das Mega-Attacķe Bundle von
  Dirk Kreuter\n\nBist du bereit\, dein Verkaufsspiel auf die nächste Stuf
 e zu heben? Möchtest du mehr Abschlüsse\, hochpreisige Aufträge und una
 usweichlich mehr Umsatz erzielen? Dann ist das Mega-Attacķe Bundle von Di
 rk Kreuter genau das Richtige für dich! In diesem Blogartikel werde ich d
 ir ausführlich vorstellen\, was dich erwartet und warum dieses Bundle dei
 ne Verkaufskarriere revolutionieren kann.\nWas ist das Mega-Attacķe Bundl
 e?\nDas Mega-Attacķe Bundle ist ein umfassendes Paket von Verkaufstrainin
 gs und Ressourcen\, zusammengestellt von keinem Geringeren als Dirk Kreute
 r\, einem der renommiertesten Verkaufstrainer im deutschsprachigen Raum. M
 it über 30 Jahren Erfahrung im Verkauf und der Schulung von Vertriebsteam
 s weiß Kreuter genau\, worauf es beim erfolgreichen Verkaufen ankommt.\n\
 n[button color="btn-warning" size="btn-md" shape="btn-rounded" outline="fa
 lse" block="false" target="_blank" rel="" href="https://elopage.com/s/dirk
 -kreuter/kurs-attacke-mega-bundle-00ed87b6?content_id=206193&amp\;prid=120
 73&amp\;one_s=affiliate&amp\;affid=1024&amp\;pid=1024"]Anmeldung &amp\; In
 fos zum Attacke Mega Bundle von Dirk Kreuter *[/button]\nWas kannst du erw
 arten?\nDas Mega-Attacķe Bundle bietet dir Zugang zu einem Schatz an bew
 ährtem Verkaufswissen\, das sich in zahlreichen erfolgreichen Verkaufsstr
 ategien und -techniken manifestiert. Von der Kunst der Überzeugung bis hi
 n zur effektiven Abschlusstechnik – dieses Bundle deckt alle Aspekte ab\
 , die du benötigst\, um ein Top-Verkäufer zu werden.\nWarum solltest du 
 teilnehmen?\nDie Frage ist eher\, warum solltest du nicht teilnehmen? Wenn
  du dein Verkaufspotenzial maximieren und deine Umsätze steigern möchtes
 t\, ist das Mega-Attacķe Bundle die Antwort. Dirk Kreuter hat Tausende vo
 n Menschen dabei geholfen\, ihre Verkaufsfähigkeiten zu verbessern und ih
 re Ziele zu erreichen. Jetzt hast auch du die Chance\, von seinem geballte
 n Know-how zu profitieren.\nWie kannst du teilnehmen?\nEs ist ganz einfach
 ! Trage dich einfach in die Liste ein und sei am 13. Mai um 18 Uhr bereit\
 , wenn der Launch des Mega-Attacķe Bundles beginnt. Behalte dein Postfach
  im Auge\, damit du das Bundle nicht verpasst – es könnte der Wendepunk
 t in deiner Verkaufskarriere sein!\n\n[button color="btn-warning" size="bt
 n-md" shape="btn-rounded" outline="false" block="false" target="_blank" re
 l="" href="https://elopage.com/s/dirk-kreuter/kurs-attacke-mega-bundle-00e
 d87b6?content_id=206193&amp\;prid=12073&amp\;one_s=affiliate&amp\;affid=10
 24&amp\;pid=1024"]Anmeldung &amp\; Infos zum Attacke Mega Bundle von Dirk 
 Kreuter *[/button]\nFazit\nDas Mega-Attacķe Bundle von Dirk Kreuter versp
 richt nicht nur eine Steigerung deiner Verkaufsfähigkeiten\, sondern auch
  eine Transformation deiner gesamten Verkaufsstrategie. Wenn du bereit bis
 t\, den nächsten Schritt zu gehen und ein Top-Verkäufer zu werden\, dann
  ist dieses Bundle genau das Richtige für dich. Mach dich frühlingsfit f
 ür den Verkaufserfolg – sei dabei und erlebe die ultimative Verkaufsrev
 olution.\nWerde Partner beim Dirk Kreuter Partnerprogramm\nVerdiene bis zu
  80% Provision: Werde Partner von Dirk Kreuter!\n\nMöchtest du nicht nur 
 von Dirk Kreuters Verkaufswissen profitieren\, sondern auch selbst davon p
 rofitieren\, indem du seine Produkte bewirbst? Dann bist du hier genau ric
 htig! Als Partner von Dirk Kreuter hast du die Möglichkeit\, seine Produk
 te zu bewerben und dabei bis zu 80% Provision zu verdienen. Klingt interes
 sant? Hier erfährst du\, wie du teilnehmen und davon profitieren kannst.\
 n\nhttps://elopage.com/s/dirk-kreuter/*\n\nWarum Dirk Kreuter-Produkte bew
 erben?\n\nDirk Kreuter ist einer der führenden Verkaufstrainer im deutsch
 sprachigen Raum mit über 30 Jahren Erfahrung im Verkauf. Seine Produkte u
 nd Trainings haben Tausenden von Menschen geholfen\, ihre Verkaufsfähigke
 iten zu verbessern und ihre Umsätze zu steigern. Indem du seine Produkte 
 bewirbst\, kannst du nicht nur anderen dabei helfen\, erfolgreicher zu wer
 den\, sondern auch selbst davon profitieren.\n\nWie funktioniert es?\n\nEs
  ist ganz einfach! Melde dich als Partner auf der Plattform Elopage an\, d
 ie für das Tracking und die Auszahlung der Provisionen verantwortlich ist
 . Sobald du als Partner akzeptiert wurdest\, erhältst du Zugang zu einer 
 Vielzahl von Marketingmaterialien\, die du verwenden kannst\, um die Produ
 kte von Dirk Kreuter zu bewerben. Du erhältst auch einen speziellen Partn
 er-Link\, der es ermöglicht\, deine Verkäufe zu verfolgen und deine Prov
 isionen zu sichern.\n\nWelche Provisionen gibt es?\n\nDirk Kreuter bietet 
 großzügige Provisionen von bis zu 80% für seine Partner. Das bedeutet\,
  dass du für jeden Verkauf\, der über deinen Partner-Link generiert wird
 \, eine Provision von bis zu 80% verdienen kannst. Je mehr Verkäufe du ge
 nerierst\, desto mehr kannst du verdienen!\n\nWarum solltest du teilnehmen
 ?\n\nAls Partner von Dirk Kreuter hast du die Möglichkeit\, nicht nur von
  seinem renommierten Namen und seinen hochwertigen Produkten zu profitiere
 n\, sondern auch von großzügigen Provisionen von bis zu 80%. Mit sichere
 n Tracking- und Auszahlungsmethoden über Elopage kannst du sicher sein\, 
 dass du für deine Bemühungen angemessen belohnt wirst.
ATTACH;FMTTYPE=image/jpeg:https://affiliate-sein.de/wp-content/uploads/202
 4/05/Attacke-Mega-Bundle-von-Dirk-Kreuter.png
CATEGORIES:Affiliate-Produkt Launch
LOCATION:https://elopage.com/s/dirk-kreuter/kurs-attacke-mega-bundle-00ed87
 b6?content_id=206193&prid=12073&one_s=affiliate&affid=1024&pid=1024
END:VEVENT
BEGIN:VTIMEZONE
TZID:Europe/Berlin
X-LIC-LOCATION:Europe/Berlin
BEGIN:DAYLIGHT
DTSTART:20240331T030000
TZOFFSETFROM:+0100
TZOFFSETTO:+0200
TZNAME:CEST
END:DAYLIGHT
END:VTIMEZONE
END:VCALENDAR